BEGIN:VCALENDAR
VERSION:2.0
PRODID:icalendar-ruby
CALSCALE:GREGORIAN
BEGIN:VTIMEZONE
TZID:Europe/London
BEGIN:DAYLIGHT
DTSTART:20230326T020000
TZOFFSETFROM:+0000
TZOFFSETTO:+0100
RRULE:FREQ=YEARLY;BYDAY=-1SU;BYMONTH=3
TZNAME:BST
END:DAYLIGHT
BEGIN:STANDARD
DTSTART:20231029T010000
TZOFFSETFROM:+0100
TZOFFSETTO:+0000
RRULE:FREQ=YEARLY;BYDAY=-1SU;BYMONTH=10
TZNAME:GMT
END:STANDARD
END:VTIMEZONE
BEGIN:VEVENT
DTSTAMP:20260422T090354Z
UID:CL3JaQ
DTSTART;VALUE=DATE:20230427
DTEND;VALUE=DATE:20230428
CLASS:PUBLIC
CREATED:20230329T052754
LAST-MODIFIED:20230502T170527
ORGANIZER:mailto:icel@tcd.ie
SUMMARY:Launch of the Northern Ireland Committee of ICEL
URL;VALUE=URI:https://ti.to/ICEL/launch-of-the-northern-ireland-committee-o
 f-icel
URL;VALUE=URI:https://ti.to/ICEL/launch-of-the-northern-ireland-committee-o
 f-icel
END:VEVENT
END:VCALENDAR
