BEGIN:VCALENDAR
VERSION:2.0
PRODID:icalendar-ruby
CALSCALE:GREGORIAN
BEGIN:VEVENT
DTSTAMP:20260422T085939Z
UID:OdkP2Q
DTSTART:20260304T093000
DTEND:20260304T171500
CLASS:PUBLIC
CREATED:20260123T104841
DESCRIPTION: The Irish Centre for European Law (ICEL) is pleased to announc
 e the ICEL Competition Law Conference 2026\, in partnership with A&amp\;L 
 Goodbody which will analyse the key developments in Irish and European com
 petition law.  \n\n  \n  \n
LAST-MODIFIED:20260303T164204
LOCATION:A&L Goodbody\, 25 North Wall Quay\, Dublin 1 D01 H104
ORGANIZER:mailto:icel@tcd.ie
SUMMARY:ICEL Competition Law Conference 2026 In partnership with A&L Goodbo
 dy
URL;VALUE=URI:https://ti.to/ICEL/icels-competition-law-conference-2026
URL;VALUE=URI:https://ti.to/ICEL/icels-competition-law-conference-2026
END:VEVENT
END:VCALENDAR
