BEGIN:VCALENDAR
VERSION:2.0
PRODID:icalendar-ruby
CALSCALE:GREGORIAN
BEGIN:VTIMEZONE
TZID:Europe/Dublin
BEGIN:DAYLIGHT
DTSTART:20261025T010000
TZOFFSETFROM:+0100
TZOFFSETTO:+0000
RRULE:FREQ=YEARLY;BYDAY=-1SU;BYMONTH=10
TZNAME:GMT
END:DAYLIGHT
BEGIN:STANDARD
DTSTART:20260329T020000
TZOFFSETFROM:+0000
TZOFFSETTO:+0100
RRULE:FREQ=YEARLY;BYDAY=-1SU;BYMONTH=3
TZNAME:IST
END:STANDARD
END:VTIMEZONE
BEGIN:VEVENT
DTSTAMP:20260421T085048Z
UID:4M99mw
DTSTART;TZID=Europe/Dublin:20260515T140000
DTEND;TZID=Europe/Dublin:20260515T170000
CLASS:PUBLIC
CREATED:20260302T145903
DESCRIPTION: We are pleased to announce that the Irish Centre for European 
 Law’s (ICEL) annual Privacy and Data Protection Law Conference will be h
 eld on Friday\, 15 May 2026 from 2-5pm (registration from 1.30) in the Cha
 rtered Accountants House\, 47-49 Pearse Street\, Dublin 2 and streamed liv
 e online. \n
LAST-MODIFIED:20260418T180757
LOCATION:Dublin\, Ireland
ORGANIZER:mailto:icel@tcd.ie
SUMMARY:2026 ICEL Privacy and Data Protection Conference
URL;VALUE=URI:https://ti.to/ICEL/icels-2026-privacy-and-data-protection-con
 ference
URL;VALUE=URI:https://ti.to/ICEL/icels-2026-privacy-and-data-protection-con
 ference
END:VEVENT
END:VCALENDAR
