BEGIN:VCALENDAR
VERSION:2.0
PRODID:icalendar-ruby
CALSCALE:GREGORIAN
BEGIN:VEVENT
DTSTAMP:20260421T215700Z
UID:dHMd8w
DTSTART;VALUE=DATE:20231201
DTEND;VALUE=DATE:20231202
CLASS:PUBLIC
CREATED:20231025T191136
LAST-MODIFIED:20231128T141150
LOCATION:Royal Irish Academy\, 19 Dawson St\, Dublin 2\, D02 HH58
ORGANIZER:mailto:icel@tcd.ie
SUMMARY:Human Rights in Practice: The Role Human Rights on the 20th Anniver
 sary of the ECHR Act 2003
URL;VALUE=URI:https://ti.to/ICEL/human-rights-in-practice-the-role-human-ri
 ghts-on-the-20th-anniversary-of-the-echr-act-2003
URL;VALUE=URI:https://ti.to/ICEL/human-rights-in-practice-the-role-human-ri
 ghts-on-the-20th-anniversary-of-the-echr-act-2003
END:VEVENT
END:VCALENDAR
