BEGIN:VCALENDAR
VERSION:2.0
PRODID:icalendar-ruby
CALSCALE:GREGORIAN
BEGIN:VEVENT
DTSTAMP:20260426T030455Z
UID:UYdTEQ
DTSTART;VALUE=DATE:20260508
DTEND;VALUE=DATE:20260509
CLASS:PUBLIC
CREATED:20260410T124525
DESCRIPTION: Ragged Edge Productions Present -\n"The Mystery of the Pirate 
 Lagoon" \n\n A comic radio play presented live on stage \n
LAST-MODIFIED:20260414T104509
LOCATION:Ffrith & Llanfynnyd Community Centre @ 6.30pm
ORGANIZER:mailto:pthomson61@gmail.com
SUMMARY:The Mystery of the Pirate Lagoon
URL;VALUE=URI:https://ti.to/FLCA/pirate-lagoon-may-2026
URL;VALUE=URI:https://ti.to/FLCA/pirate-lagoon-may-2026
END:VEVENT
END:VCALENDAR
