BEGIN:VCALENDAR
VERSION:2.0
PRODID:icalendar-ruby
CALSCALE:GREGORIAN
BEGIN:VEVENT
DTSTAMP:20260423T163920Z
UID:hdSmyw
DTSTART;VALUE=DATE:20261005
DTEND;VALUE=DATE:20261009
CLASS:PUBLIC
CREATED:20260212T154209
DESCRIPTION: \n Dates: October 5-8\, 2026 (Mon-Thu) \n Time: 9:00 am - Noon
  MDT (UTC-06:00) \n Location: Live online (Zoom + Miro) \n Instructor: Pau
 l Rayner\, author of The EventStorming Handbook\, founder of Explore DDD C
 onference \n \n\n   \n\n What you'll learn \n\n \n Advanced context mappin
 g strategies \n Relationship patterns: Customer-Supplier\, Anticorruption 
 Layer\, Open Host Service\, and more \n Core domain identification and str
 ategic distillation techniques \n Large-scale structure patterns for compl
 ex systems \n Strategies for evolving existing systems using DDD \n Hands-
 on modeling exercises throughout \n \n\n \n\n "Understanding the value of 
 context mapping and more advanced of Event storming (especially on definin
 g timelines and policy)." -- Workshop Participant \n\n \n\n Who should att
 end \n\n Senior developers\, architects\, technical leads\, engineering ma
 nagers\, and system designers. This course is for practitioners who want t
 o go deeper into the strategic side of DDD\, focusing on how to organize a
 nd evolve complex systems at scale.\n  \n\n Prerequisites \n\n Essential D
 DD or equivalent DDD experience recommended. You should be familiar with f
 oundational DDD concepts such as bounded contexts\, ubiquitous language\, 
 and basic tactical patterns (Entities\, Value Objects\, Aggregates).\n  \n
 \n Format &amp\; tools \n\n \n 4 live\, instructor-led sessions (3 hours e
 ach) via Zoom + Miro. \n Highly interactive: short demos\, hands-on exerci
 ses\, breakout rooms\, and Q&amp\;A. \n Please join camera-on with a mic a
 nd stable internet\; this collaborative format depends on real-time discus
 sion. \n \n\n You'll receive prep details a couple of weeks beforehand and
  an electronic certificate of completion afterward. \n\n We run this as a 
 camera-on\, participatory format. If that isn't feasible for you\, this wo
 rkshop may not be the right fit.\n  \n\n Pricing &amp\; teams \n\n \n Indi
 vidual ticket: $1\,450 earlybird\, $1\,650 regular \n Group discounts: \n 
 3-5 tickets: $100 off each \n 6+: $200 off each \n \n\n \n\n Curriculum ou
 tline \n\n   \n\n Session 1 -- Strategic Context \n\n \n Why strategic des
 ign matters at scale \n Bounded contexts revisited: ownership\, autonomy\,
  and team alignment \n Context mapping: identifying relationships between 
 systems and teams \n Practice: mapping a complex system landscape \n \n\n 
 Session 2 -- Relationship Patterns \n\n \n Customer-Supplier\, Conformist\
 , Anticorruption Layer \n Open Host Service\, Published Language\, Shared 
 Kernel \n Partnership and Separate Ways \n Practice: choosing patterns for
  real-world integration scenarios \n \n\n Session 3 -- Distillation &amp\;
  Core Domain \n\n \n Identifying your core domain and competitive advantag
 e \n Supporting and generic subdomains: build vs. buy decisions \n Strateg
 ic distillation techniques \n Practice: distillation exercises on case stu
 dies \n \n\n Session 4 -- Evolving Systems \n\n \n Large-scale structure p
 atterns \n Incremental strategies for modernizing legacy systems \n Aligni
 ng technical boundaries with organizational boundaries \n Plan how to appl
 y strategic DDD in your context \n \n\n About the instructor \n\n  \nPaul 
 Rayner is a developer\, coach\, and popular conference speaker with 30+ ye
 ars' experience. He founded the Explore DDD conference and co-founded DDD 
 Denver. Paul wrote The EventStorming Handbook and co-authored BDD with Cuc
 umber. He teaches and consults on DDD and EventStorming through Virtual Ge
 nius. He lives in Denver with his family. \n\n \n\n Questions? \n\n  \nEma
 il info@virtualgenius.com and we'll gladly answer any other questions you 
 may have about our workshops and coaching. \n
LAST-MODIFIED:20260216T203630
LOCATION:Online
ORGANIZER:mailto:info@virtualgenius.com
SUMMARY:Strategic DDD Virtual Workshop (4 x 3hr) - Oct 2026
URL;VALUE=URI:https://ti.to/EDDD/strategic-ddd-virtual-workshop-oct-2026
URL;VALUE=URI:https://ti.to/EDDD/strategic-ddd-virtual-workshop-oct-2026
END:VEVENT
END:VCALENDAR
