BEGIN:VCALENDAR
VERSION:2.0
PRODID:icalendar-ruby
CALSCALE:GREGORIAN
BEGIN:VTIMEZONE
TZID:Europe/Dublin
BEGIN:DAYLIGHT
DTSTART:20161030T010000
TZOFFSETFROM:+0100
TZOFFSETTO:+0000
RRULE:FREQ=YEARLY;BYDAY=-1SU;BYMONTH=10
TZNAME:GMT
END:DAYLIGHT
BEGIN:STANDARD
DTSTART:20170326T020000
TZOFFSETFROM:+0000
TZOFFSETTO:+0100
RRULE:FREQ=YEARLY;BYDAY=-1SU;BYMONTH=3
TZNAME:IST
END:STANDARD
END:VTIMEZONE
BEGIN:VEVENT
DTSTAMP:20260424T101003Z
UID:Ixe2RQ
DTSTART;VALUE=DATE:20170215
DTEND;VALUE=DATE:20170217
CLASS:PUBLIC
CREATED:20160425T180343
DESCRIPTION: Where Today‘s Leaders Meet Tomorrow’s Technology. DTS brin
 gs together global leaders in innovation\, technology and business to shap
 e the future of global trends and technologies. \n\n For more see www.dubl
 intechsummit.com \n\n Questions? Email us info@dublintechsummit.com \n
LAST-MODIFIED:20191023T144201
LOCATION:Dublin\, Ireland
ORGANIZER:mailto:info@dublintechsummit.com
SUMMARY:Dublin Tech Summit 2017
URL;VALUE=URI:https://ti.to/DTS/dublintechsummit2017
URL;VALUE=URI:https://ti.to/DTS/dublintechsummit2017
END:VEVENT
END:VCALENDAR
