BEGIN:VCALENDAR
VERSION:2.0
PRODID:icalendar-ruby
CALSCALE:GREGORIAN
BEGIN:VTIMEZONE
TZID:Europe/Dublin
BEGIN:DAYLIGHT
DTSTART:20211031T010000
TZOFFSETFROM:+0100
TZOFFSETTO:+0000
RRULE:FREQ=YEARLY;BYDAY=-1SU;BYMONTH=10
TZNAME:GMT
END:DAYLIGHT
BEGIN:STANDARD
DTSTART:20210328T020000
TZOFFSETFROM:+0000
TZOFFSETTO:+0100
RRULE:FREQ=YEARLY;BYDAY=-1SU;BYMONTH=3
TZNAME:IST
END:STANDARD
END:VTIMEZONE
BEGIN:VEVENT
DTSTAMP:20260425T131924Z
UID:EiOgCw
DTSTART;VALUE=DATE:20210617
DTEND;VALUE=DATE:20210618
CLASS:PUBLIC
CREATED:20210120T124815
DESCRIPTION: Dublin Tech Summit Virtual (DTS Virtual) returns on 17th of Ju
 ne\, 2021 with a one-day Summit\, featuring 100 world-class international 
 speakers across 4 stages\, including an exhibitor engagement platform and 
 non-stop networking opportunities.  \n\n Experts from 70 countries will co
 me together to share their insights and knowledge and to discuss the lates
 t trends and tech innovations\, keeping you up-to-date on everything you n
 eed to know within the tech industry globally.  Dublin Tech Summit (DTS) i
 s an international event that will air live from Europe's Tech Hub in Dubl
 in\, Ireland. Join over 5\,000 global professionals in innovation\, tech a
 nd business at DTS Virtual and connect with fellow tech enthusiasts\, lead
 ers and changemakers.   \n
LAST-MODIFIED:20220518T163210
LOCATION:Virtual Event
ORGANIZER:mailto:tickets@dublintechsummit.com
SUMMARY:Dublin Tech Summit Virtual 2021
URL;VALUE=URI:https://ti.to/DTS/dublin-tech-summit-virtual-2021
URL;VALUE=URI:https://ti.to/DTS/dublin-tech-summit-virtual-2021
END:VEVENT
END:VCALENDAR
