BEGIN:VCALENDAR
VERSION:2.0
PRODID:icalendar-ruby
CALSCALE:GREGORIAN
BEGIN:VTIMEZONE
TZID:Europe/Vienna
BEGIN:DAYLIGHT
DTSTART:20250330T030000
TZOFFSETFROM:+0100
TZOFFSETTO:+0200
RRULE:FREQ=YEARLY;BYDAY=-1SU;BYMONTH=3
TZNAME:CEST
END:DAYLIGHT
BEGIN:STANDARD
DTSTART:20251026T020000
TZOFFSETFROM:+0200
TZOFFSETTO:+0100
RRULE:FREQ=YEARLY;BYDAY=-1SU;BYMONTH=10
TZNAME:CET
END:STANDARD
END:VTIMEZONE
BEGIN:VEVENT
DTSTAMP:20260422T090217Z
UID:6a0fvg
DTSTART;VALUE=DATE:20250425
DTEND;VALUE=DATE:20250426
CLASS:PUBLIC
CREATED:20241113T202055
DESCRIPTION: Featuring International award-winning comedians Danny O' Brien
 \, Elena Gabrielle &amp\; some VERY special guests on every show! \n\n The
  time has come to go BIG or go home! \n\n Coming to your venue for one nig
 ht only- this mammoth full-stage show is packed with world-class live stan
 d-ups\, live music plus the biggest afterparty playing with a full set of 
 pure bangers into the early hours! \n\n (Needless to say\, there will be a
  few more surprises throughout the show too) \n\n This is your ultimate on
 e-stop-shop for a huge night out with your friends or work colleagues so b
 ook your cat a babysitter and grab those tickets now as this will sell out
  fast. \n
LAST-MODIFIED:20250425T150220
LOCATION:Spektakel\, Hamburgerstraße 14\, 1050 Wien\, Austria
ORGANIZER:mailto:hello@elenagabrielle.com
SUMMARY:Big Night Out Festival - Vienna
URL;VALUE=URI:https://ti.to/BigNightOut/big-night-out-festival-vienna
URL;VALUE=URI:https://ti.to/BigNightOut/big-night-out-festival-vienna
END:VEVENT
END:VCALENDAR
