BEGIN:VCALENDAR
VERSION:2.0
PRODID:icalendar-ruby
CALSCALE:GREGORIAN
BEGIN:VEVENT
DTSTAMP:20260421T171326Z
UID:mwrSow
DTSTART:20251128T130000
DTEND:20251128T133000
CLASS:PUBLIC
CREATED:20251017T155751
DESCRIPTION: Date: Friday\, 28th November 2025 \n\n Start Time: 1pm \n\n Fi
 nish Time: 1.30pm \n\n \n\n WISLaw &amp\; the SLBA would like to invite 20
 25 Conference attendees to a pre-Conference networking event. \n\n A short
  conversation with Emma Davey BL and Bébhinn Murphy BL will be held with 
 refreshments in advance of the Conference. \n\n The event is open to all C
 onference attendees. Women who practise in sports law or who are intereste
 d in the area are strongly encouraged to attend. \n\n Women in Sports Law 
 (WISLaw) is an international\, non-profit association based in Switzerland
  aimed at promoting women in the sports law sector\, through scientific an
 d networking events. \n\n Registration is essential for both the Annual Co
 nference and the networking event. \n\n To register for the SLBA Annual Co
 nference 2025\, please click here. \n\n  \nAccessibility Requirements: At 
 the Bar of Ireland we wish for our events to be as\nwelcoming\, accessible
  and inclusive for all. Please provide us if comfortable with any accessib
 ility related considerations so that we can endeavour to ensure a barrier 
 free experience during the event. Please note that The Gaffney Room is not
  accessible via Wheelchair. Email events@lawlibrary.ie to discuss your nee
 ds. \n
LAST-MODIFIED:20260414T135413
LOCATION:Gaffney Room 
ORGANIZER:mailto:events@lawlibrary.ie
SUMMARY:In Her Court: Women in Sports Law
URL;VALUE=URI:https://ti.to/BarofIreland/slbawislaw28thnov
URL;VALUE=URI:https://ti.to/BarofIreland/slbawislaw28thnov
END:VEVENT
END:VCALENDAR
