BEGIN:VCALENDAR
VERSION:2.0
PRODID:icalendar-ruby
CALSCALE:GREGORIAN
BEGIN:VEVENT
DTSTAMP:20260421T033116Z
UID:9q7bag
DTSTART;VALUE=DATE:20230303
DTEND;VALUE=DATE:20230304
CLASS:PUBLIC
CREATED:20230220T140802
DESCRIPTION: Date: Friday 3rd March \n\n Time: 4.15pm \n\n Location: Gaffne
 y Room and Online \n\n Speakers: \n\n Chair: The Attorney General\, Rossa 
 Fanning SC \n\n Tim O'Connor BL  \n\n Aoife Farrelly BL  \n\n Dermot Flana
 gan SC  \n\n Description: \n\n This event covers the recent Law Reform Com
 mission Consultation Paper on Unincorporated Bodies and how it could effec
 t the structure of sports clubs and their liability in tort. It aims to gi
 ve sporting bodies and their advisers a full background should they wish t
 o make submissions on this to the LRC. \n\n This event is open to all. \n\
 n **View the full consultation paper  **here  and deadline for submissions
  has now been extended to the 15th May 2023. \n
LAST-MODIFIED:20260414T135413
LOCATION:Gaffney Room & Online (via Zoom)
ORGANIZER:mailto:events@lawlibrary.ie
SUMMARY:The Law Reform Commission Consultation on Unincorporated Bodies: St
 ructure and Liability Questions for Sporting Bodies
URL;VALUE=URI:https://ti.to/BarofIreland/slbatibe3mar-7864
URL;VALUE=URI:https://ti.to/BarofIreland/slbatibe3mar-7864
END:VEVENT
END:VCALENDAR
