BEGIN:VCALENDAR
VERSION:2.0
PRODID:icalendar-ruby
CALSCALE:GREGORIAN
BEGIN:VEVENT
DTSTAMP:20260421T171511Z
UID:sFCk9g
DTSTART:20250228T083000
DTEND:20250228T093000
CLASS:PUBLIC
CREATED:20250206T124151
DESCRIPTION: Date: Friday\, 28th February 2025 \n\n Start Time: 8.30am \n\n
  Finish Time: 9.30am \n\n A light breakfast will be served at 8am. \n\n Lo
 cation: Gaffney Room &amp\; Online \n\n \n\n Join the Sports Law Bar Assoc
 iation and the Tort and Insurance Bar Association as they take attendees t
 hrough understanding the intersection of legal liability with the broader 
 social benefits that sport brings to individuals and communities with refe
 rence to the Courts and Civil Law (Miscellaneous Provisions) Act 2023 and 
 Occupiers Liability Act. \n\n \n\n Chaired by: \n\n Rebecca Lacy BL\, Secr
 etary - SLBA \n\n Speaker: \n\n Tim O'Connor BL \n\n This event is open to
  all \n\n 1 CPD point \n\n \n\n  \n \n \n \n \nAccessibility Requirements:
  At the Bar of Ireland we wish for our events to be as\nwelcoming\, access
 ible and inclusive for all. Please provide us if comfortable with any acce
 ssibility related considerations so that we can endeavour to ensure a barr
 ier free experience during the event. Email events@lawlibrary.ie to discus
 s your needs. \n
LAST-MODIFIED:20260414T135413
LOCATION:Gaffney Room and online
ORGANIZER:mailto:events@lawlibrary.ie
SUMMARY:Joint SLBA/TIBA: Personal Injury and Social Utility - Not All Fun A
 nd Games
URL;VALUE=URI:https://ti.to/BarofIreland/slbatibabreakfast28thfeb
URL;VALUE=URI:https://ti.to/BarofIreland/slbatibabreakfast28thfeb
END:VEVENT
END:VCALENDAR
