BEGIN:VCALENDAR
VERSION:2.0
PRODID:icalendar-ruby
CALSCALE:GREGORIAN
BEGIN:VEVENT
DTSTAMP:20260421T170604Z
UID:l9bidw
DTSTART:20250429T163000
DTEND:20250429T173000
CLASS:PUBLIC
CREATED:20250328T131730
DESCRIPTION: Date: Tuesday 29th April \n\n Start Time: 4.30pm \n\n Location
 : Gaffney Room &amp\; Online \n\n This event is open to all \n\n CPD Point
 s awarded: 1 \n\n \n\n In a constantly evolving sports business environmen
 t\, athletes and sports bodies face increasingly complex financial challen
 ges and opportunities. \n\n The Sports Law Bar Association and Tax Bar Ass
 ociation are hosting this joint event to help legal practitioners\, tax ad
 visors\, sports bodies and athletes advise upon and navigate these complex
 ities. \n\n At the end of the presentation\, participants will understand:
  \n\n \n The key aspects of taxation of athletes \n The important taxation
  distinctions between on-pitch and off-pitch earnings \n Athlete Imaging R
 ights \n Taxation of Sports Bodies (Local\, Regional\, National) \n Key Co
 nsiderations to prepare for an Audit of a Sports Body \n \n\n \n\n Chaired
  by: \n\n Mark Curran BL\, Vice Chair - SLBA \n\n Speakers: \n\n James Bur
 ke BL \n\n Cian O'Sullivan\, Former Dublin GAA Player and Tax Partner at B
 DO \n\n  \nFollowed by a drinks reception in The Sheds afterwards \n\n \n\
 n  \n \n \n \n \n \nAccessibility Requirements: At the Bar of Ireland we w
 ish for our events to be as\nwelcoming\, accessible and inclusive for all.
  Please provide us if comfortable with any accessibility related considera
 tions so that we can endeavour to ensure a barrier free experience during 
 the event. Please note that The Gaffney Room is not accessible via wheelch
 air. \n\n Email events@lawlibrary.ie to discuss your needs. \n
LAST-MODIFIED:20260414T135413
LOCATION:Gaffney Room and online
ORGANIZER:mailto:events@lawlibrary.ie
SUMMARY:Taxation Issues for Athletes and Sporting Bodies
URL;VALUE=URI:https://ti.to/BarofIreland/slbatba29april
URL;VALUE=URI:https://ti.to/BarofIreland/slbatba29april
END:VEVENT
END:VCALENDAR
