BEGIN:VCALENDAR
VERSION:2.0
PRODID:icalendar-ruby
CALSCALE:GREGORIAN
BEGIN:VTIMEZONE
TZID:Europe/Dublin
BEGIN:DAYLIGHT
DTSTART:20241027T010000
TZOFFSETFROM:+0100
TZOFFSETTO:+0000
RRULE:FREQ=YEARLY;BYDAY=-1SU;BYMONTH=10
TZNAME:GMT
END:DAYLIGHT
BEGIN:STANDARD
DTSTART:20240331T020000
TZOFFSETFROM:+0000
TZOFFSETTO:+0100
RRULE:FREQ=YEARLY;BYDAY=-1SU;BYMONTH=3
TZNAME:IST
END:STANDARD
END:VTIMEZONE
BEGIN:VEVENT
DTSTAMP:20260422T085658Z
UID:B7eAUA
DTSTART;TZID=Europe/Dublin:20240605T163000
DTEND;TZID=Europe/Dublin:20240605T173000
CLASS:PUBLIC
CREATED:20240508T140948
DESCRIPTION: Date: 5th June 2024 \n\n Start Time: 4.30pm - 5.30pm \n\n Loca
 tion: Gaffney Room &amp\; Online \n\n \n\n This talk\, kindly chaired by H
 is Honour Judge O'Connor (Judge of the Dublin Circuit Court) will update p
 ractitioners on recent developments in the law and procedure relating to a
 pplications for Summary Judgment and applications for the Summary Reposses
 sion of secured properties. \n\n Speakers:\nHis Honour Judge John O'Connor
  (Chairing) \n\n Shaula Connaughton-Deeny BL: Summary Judgement \n\n Ruadh
 án Ó Ciaráin BL: Orders for Repossession \n\n This event is open to all
 . \n\n There is 1 CPD point available for this event. \n\n Accessibility R
 equirements: At the Bar of Ireland we wish for our events to be as\nwelcom
 ing\, accessible and inclusive for all. Please provide us if comfortable w
 ith any accessibility related considerations so that we can endeavour to e
 nsure a barrier free experience during the event. Email events@lawlibrary.
 ie to discuss your needs. \n
LAST-MODIFIED:20260414T145413
LOCATION:Gaffney Room & Online
ORGANIZER:mailto:events@lawlibrary.ie
SUMMARY:FSBA Update: Summary Judgment and Summary Repossession Orders
URL;VALUE=URI:https://ti.to/BarofIreland/fsba-update-recent-developments-on
 -the-law-relating-to-summary-judgment-repossession-orders
URL;VALUE=URI:https://ti.to/BarofIreland/fsba-update-recent-developments-on
 -the-law-relating-to-summary-judgment-repossession-orders
END:VEVENT
END:VCALENDAR
