BEGIN:VCALENDAR
VERSION:2.0
PRODID:icalendar-ruby
CALSCALE:GREGORIAN
BEGIN:VEVENT
DTSTAMP:20260421T083354Z
UID:jgd43Q
DTSTART;VALUE=DATE:20250611
DTEND;VALUE=DATE:20250614
CLASS:PUBLIC
CREATED:20241219T111729
DESCRIPTION: Comhdháil 2025 \n\n Dáta: 11/12/13ú Meitheamh 2025 \n\n Ái
 t: Centre Culturel Irlandais\, Paris\, 5 Rue des Irlandais \n\n Tá clár
 úchán dúnta anois. Is féidir glaoch a chur ar Cormac Ó Dúlacháin AS
  ag 00353872376291 chun aon spás breiseadh a fhiosrú. \n\n \n\n An Céad
 aoin - 11 Meitheamh \n\n Imeachtaí Sóisialta Roghnacha \n\n 16.00 \n\n C
 uairt ar Le Panthéon\, Place du Panthéon Sleachta as Óráidí Wolfe Ton
 e &amp\; Robert Emmet &amp\; Ceol sa Nave - Le Panthéon (Saor in Aisce) \
 n\n  \n21.30 \n\n Dinnéar (roghnach) Restaurant Polidor\, 41 Rue Monsieur
  le Prince 75006 Paris\, (Biachlár an Tí - 3 Cúrsa\, Fíon agus Caifé 
 - €50 an duine) \n\n   \n\n \n\n An Déardaoin - 12 Meitheamh \n\n Áit:
  Centre Culturel Irlandais\, Paris\, 5 Rue des Irlandais \n\n  \n09.30 Cl
 árú agus Caife \n\n 10.15 Fáiltiú - An Breitheamh Conor Dignam \n\n  \
 nLiberté - An Breitheamh Siobhán Phelan - Saoirse \n\n 10.30 An tOllamh 
 Suzanne Kingston AS\, CBAE (Cúirt Bhreithiúnais an Aontais Eorpaigh) \n\
 n 11.15 Caifé \n\n 11.30 Luán Ó Braonáin AS \n\n 12.00 Donogh Hardiman
  BL \n\n 12.30 Plé Oscailte \n\n  \n13.00 Lón Éadrom sa Chlós \n\n  \n
 Égalité - An Breitheamh Siobhán de Staic - Comhionannas \n\n 14.00 Clí
 ona Kimber AS \n\n 14.30 Siobhan Ní Chúlacháin BL \n\n 15.00 Caifé \n\
 n 15.15 Róisín Áine Costello BL \n\n 15.45 Dr Seán Ó Riain\, Toscaire
  Ilteangachais \n\n  \n18.00 Fáiltiú oifiguúil - Ambasáid na hÉireann
 \, 12 Ave Foch\, 75116 Páras (Gar don Arc de Triomphe) \n\n   \n\n \n\n D
 e hAoine - 13 Meitheamh \n\n 9.45 Caifé \n\n 10.00 Na Coláistí Éireann
 acha - Diarmaid Ó Catháin\, Aturnae \n\n Fraternité - An Breitheamh Nua
 la de Buitléir - Bráithreachas \n\n 11.00 Mark de Blacam AS \n\n 11.30 E
 lizabeth-Ann Kirwan BL \n\n 11.50 An Breitheamh Míleata\, Michael Campion
  \n\n 12.10 Caifé \n\n 12.30 Niall Ó hUiginn BL \n\n 13.00 Seán Guerin 
 AS\, Cathaoirleach Bharra Na hÉireann \n\n 14.00 Lón Mór na Comhdhála 
 á óstáil sa Chlós ag Guillemard \n\n 15.30 Focail Scor na Comhdhála \
 n\n   \n\n \n\n Roghanna cóiríochta: \n\n Hotel Andre Latin (rátaí las
 caine ar fáil) \n\n Hotel Mouffetard / Apolonia (rátaí lascaine ar fái
 l) \n\n Best Western Quartier Latin Pantheon \n\n Hotel des Grandes École
 s \n\n Hotel du Brésil \n\n Hotel des Nations Saint Germain \n\n Tá nío
 s mó roghanna sa 5iú Arrondissement agus in aice láimhe. \n\n Mar eolas
 \, tá an Centre Culturel Irlandais gar do línte meitreo 10 agus 7 \n\n T
 á clárúchán dúnta anois. Is féidir glaoch a chur ar Cormac Ó Dúlac
 háin AS ag 00353872376291 chun aon spás breiseadh a fhiosrú. \n
LAST-MODIFIED:20260414T135413
LOCATION:Centre Culturel Irlandais\, Paris
ORGANIZER:mailto:cumannbarra@lawlibrary.ie
SUMMARY:Liberté\, Égalité\, Fraternité - Deireadh ré?
URL;VALUE=URI:https://ti.to/BarofIreland/comhdhail-2025
URL;VALUE=URI:https://ti.to/BarofIreland/comhdhail-2025
END:VEVENT
END:VCALENDAR
