BEGIN:VCALENDAR
VERSION:2.0
PRODID:icalendar-ruby
CALSCALE:GREGORIAN
BEGIN:VEVENT
DTSTAMP:20260421T143425Z
UID:xWsoyw
DTSTART:20250529T161500
DTEND:20250529T180000
CLASS:PUBLIC
CREATED:20250305T104716
DESCRIPTION: Date: 29th May 2025 \n\n Start Time: 4.15pm \n\n Location: Gaf
 fney Room and Online \n\n Chaired By: \n\n Donnchadh Woulfe BL \n\n Speake
 rs: \n\n Aonghus Kelly\, Head of the International Crime Unit in the Europ
 ean Union Advisory Mission in Ukraine \n\n Topic: An overview of ESG and h
 ow it affects Irish Lawyers \n\n Rachel Minch SC\, Chair of the Law Societ
 y Environmental Committee and Solicitor\, Philip Lee \n\n Topic: Climate c
 onscious legal practice from the solicitor's perspective \n\n Jean Marc Go
 llier\, Avocat barreau de Bruxelles and chair of the Environment &amp\; Cl
 imate Change Committee of the CCBE \n\n Topic: The view from abroad \n\n D
 arren Lehane SC\, Vice Chair of the General Council of The Bar of Ireland 
 and President of the Irish Maritime Law Association \n\n Topic: Climate co
 nscious legal practice - The Bar's response \n\n Followed by a panel discu
 ssion \n\n CPD Points Allocation: 1 Ethics Point \n\n \n\n  \n \n \n \n \n
  \nAccessibility Requirements: We wish for our events to be as welcoming\,
  accessible and inclusive for all. Please provide us if comfortable with a
 ny accessibility related considerations so that we can endeavour to ensure
  a barrier free experience during the event. Email events@lawlibrary.ie to
  discuss your needs. \n
LAST-MODIFIED:20260414T135413
LOCATION:Gaffney Room and online
ORGANIZER:mailto:events@lawlibrary.ie
SUMMARY:Climate Conscious Lawyering
URL;VALUE=URI:https://ti.to/BarofIreland/climate29thmay2025
URL;VALUE=URI:https://ti.to/BarofIreland/climate29thmay2025
END:VEVENT
END:VCALENDAR
