BEGIN:VCALENDAR
VERSION:2.0
PRODID:icalendar-ruby
CALSCALE:GREGORIAN
BEGIN:VEVENT
DTSTAMP:20260423T120717Z
UID:JTIVKg
DTSTART:20250620T134500
DTEND:20250620T173000
CLASS:PUBLIC
CREATED:20250410T115007
DESCRIPTION: The Construction Bar Association is delighted to invite you to
  attend its 11th major open conference event. \n\n Location: Dining Hall\,
  The Honorable Society of King's Inns \n\n Date: 20th June 2025 \n\n \n\n 
 1.15pm Registration &amp\; Light Lunch \n\n 1.45pm Opening Address: James 
 Burke BL \n\n 1.50pm Session One - Adjudication: Law\, Strategy &amp\; Pra
 ctice \n\n Chair: The Hon. Madam Justice Denise McBride \n\n Panellists: \
 n\n Jarlath Fitzsimons SC \n\n Rory Kirrane SC\, Mason Hayes &amp\; Curran
  \n\n 3:00pm: Tea/Coffee Break \n\n 3.30 pm Session Two - Housing and Buil
 ding Regulation \n\n Chair: The Hon. Mr. Justice Mark Sanfey \n\n Panellis
 ts: \n\n Deirdre Ní Fhloinn BL \n\n James Browne TD\, Minister for Housin
 g\, Local Government and Heritage \n\n Michael O'Flynn\, O'Flynn Construct
 ion Group \n\n 4.30pm Panel Three - Professional Negligence \n\n Chair: Th
 e Hon. Mr. Justice Maurice Collins \n\n Panellists: \n\n Sara Moorhead SC 
 \n\n Peggy O'Rourke SC \n\n Lydia Bunni BL \n\n \n\n Drinks Reception Entr
 ance Hall King Inns: 5.30pm \n\n 3.5 CPD Points available \n\n Accessibili
 ty Requirements: At the Bar of Ireland we wish for our events to be as wel
 coming\, accessible and inclusive for all. Please provide us if comfortabl
 e with any accessibility related considerations so that we can endeavour t
 o ensure a barrier free experience during the event. Email events@lawlibra
 ry.ie to discuss your needs. \n
LAST-MODIFIED:20260414T135413
LOCATION:Dining Hall\, The Honorable Society of King's Inns
ORGANIZER:mailto:events@lawlibrary.ie
SUMMARY:Constructing Clarity | CBA Annual Conference 2025
URL;VALUE=URI:https://ti.to/BarofIreland/cba2025conference
URL;VALUE=URI:https://ti.to/BarofIreland/cba2025conference
END:VEVENT
END:VCALENDAR
