BEGIN:VCALENDAR
VERSION:2.0
PRODID:icalendar-ruby
CALSCALE:GREGORIAN
BEGIN:VTIMEZONE
TZID:Europe/Zurich
BEGIN:DAYLIGHT
DTSTART:20250330T030000
TZOFFSETFROM:+0100
TZOFFSETTO:+0200
RRULE:FREQ=YEARLY;BYDAY=-1SU;BYMONTH=3
TZNAME:CEST
END:DAYLIGHT
BEGIN:STANDARD
DTSTART:20241027T020000
TZOFFSETFROM:+0200
TZOFFSETTO:+0100
RRULE:FREQ=YEARLY;BYDAY=-1SU;BYMONTH=10
TZNAME:CET
END:STANDARD
END:VTIMEZONE
BEGIN:VEVENT
DTSTAMP:20260421T084020Z
UID:eXXKAQ
DTSTART;TZID=Europe/Zurich:20241106T093000
DTEND;TZID=Europe/Zurich:20241106T113000
CLASS:PUBLIC
CREATED:20240919T141451
DESCRIPTION: Communication networks are the backbone of our connected socie
 ty. Reliable\, secure and inclusive connectivity is indispensable to acces
 s many essential services\, and this is why a multistakeholder approach is
  at the centre of the way next generation Smart Networks and Services (SNS
 ) are being designed and will be engineered and managed. \n\n  \nSeveral S
 NS JU projects are already working to ensure that societal\, environmental
  and economic values are embedded by design into the development of 6G\, b
 ringing a sustainability and societal perspective to technological develop
 ment. Two of these projects are Hexa-X-II and 6G4Society\, who are organis
 ing a joint webinar.\n   \n\n This webinar has the twofold objective of: \
 n\n \n Reporting the work done so far by the 6G4Society and the Hexa-X-II 
 SNS JU projects\, specifically on how to integrate social acceptance into 
 the development of 6G and how to ensure societal and environmental values 
 are integrated by design.   \n Animating discussions and gathering feedbac
 k within the SNS JU community and beyond on the main challenges and priori
 ties to ensure 6G social acceptance.\nWhen? 6 November 09:30-11:30 CEST\nW
 here? On Zoom\, sign up on Tito to add this webinar directly into your cal
 endar and receive a reminder before the event!\n   \n \n\n Programme: \n\n
  \n Welcome and introduction to the webinar - Monique Calisti (Martel Inno
 vate)\n6G Societal Acceptance and Sustainability - Chiara Mazzone (SNS JU 
 Office) and Pavlos Fournourakis (SNS JU Office)  \n Introduction to the 6G
 4Society and Hexa-X-II projects - Eva Hajdok (Martel Innovate) and Mikko U
 usitalo (Nokia)   \n Building a Social Acceptance Model for 6G - Margot Be
 zzi (CyberEthics Lab.)  \n Analysis of previous surveys on 5G - Maurizio C
 ecchi (Institute P.I.I.U.) and Ishita Mishra (Institute P.I.I.U.)  \n Prel
 iminary results from 6G4Society Citizen Survey - Flavia Maragno (Digital f
 or Planet)  \n Feedback from local Public Administrations - Louise Renoux 
 (ORANGE)  \n Open discussion - Q&amp\;A session   \n Wrap-up and next appo
 intments \n  \n \n\n 6G4Society &amp\; Hexa-X-II Webinar will take place o
 n November 6\, 2024\, at 9h30 CEST\, covering the subject of 6G Social Acc
 eptance. The event will feature presentations delivered by high-level spea
 kers\, followed by a panel discussion and an interactive Q&amp\;A session.
 \n \n \n  \n\n Attendance is free\, but registration is mandatory. \n
LAST-MODIFIED:20241031T142810
LOCATION:Online
ORGANIZER:mailto:info@6g4society.eu
SUMMARY:Ensuring 6G Social Acceptance 6G4Society & Hexa-X-II Webinar
URL;VALUE=URI:https://ti.to/6g4society/6g4society-hexa-x-ii-webinar
URL;VALUE=URI:https://ti.to/6g4society/6g4society-hexa-x-ii-webinar
END:VEVENT
END:VCALENDAR
