BEGIN:VCALENDAR
VERSION:2.0
PRODID:icalendar-ruby
CALSCALE:GREGORIAN
BEGIN:VEVENT
DTSTAMP:20260424T155129Z
UID:NliFqQ
DTSTART;VALUE=DATE:20170410
DTEND;VALUE=DATE:20170412
CLASS:PUBLIC
CREATED:20161102T200258
LAST-MODIFIED:20220916T135037
LOCATION:
ORGANIZER:mailto:feedback@ull.ie
SUMMARY:Úll 2017
URL;VALUE=URI:https://ti.to/úll/2017
URL;VALUE=URI:https://ti.to/úll/2017
END:VEVENT
BEGIN:VEVENT
DTSTAMP:20260424T155129Z
UID:NliFqQ1014159
DTSTART:20170409T030000
DTEND:20170409T060000
CLASS:PUBLIC
CREATED:20170303T153428
LAST-MODIFIED:20171122T090300
ORGANIZER:mailto:feedback@ull.ie
SUMMARY:[Úll 2017] Sunday Fringe Dinner
URL;VALUE=URI:https://ti.to/úll/2017
URL;VALUE=URI:https://ti.to/úll/2017
END:VEVENT
BEGIN:VEVENT
DTSTAMP:20260424T155129Z
UID:NliFqQ1013188
DTSTART;VALUE=DATE:20170410
DTEND;VALUE=DATE:20170411
CLASS:PUBLIC
CREATED:20170125T205141
LAST-MODIFIED:20171122T090241
LOCATION:The Europe Hotel & Resort\, Fossa\, Killarney\, Co Kerry\, Ireland
ORGANIZER:mailto:feedback@ull.ie
SUMMARY:[Úll 2017] Conference Day One
URL;VALUE=URI:https://ti.to/úll/2017
URL;VALUE=URI:https://ti.to/úll/2017
END:VEVENT
BEGIN:VEVENT
DTSTAMP:20260424T155129Z
UID:NliFqQ1013189
DTSTART;VALUE=DATE:20170411
DTEND;VALUE=DATE:20170412
CLASS:PUBLIC
CREATED:20170125T205914
LAST-MODIFIED:20171122T090241
LOCATION:The Europe Hotel & Resort\, Fossa\, Killarney\, Co Kerry\, Ireland
ORGANIZER:mailto:feedback@ull.ie
SUMMARY:[Úll 2017] Conference Day Two
URL;VALUE=URI:https://ti.to/úll/2017
URL;VALUE=URI:https://ti.to/úll/2017
END:VEVENT
BEGIN:VEVENT
DTSTAMP:20260424T155129Z
UID:NliFqQ1014160
DTSTART:20170412T030000
DTEND:20170412T060000
CLASS:PUBLIC
CREATED:20170303T153522
LAST-MODIFIED:20171122T090300
ORGANIZER:mailto:feedback@ull.ie
SUMMARY:[Úll 2017] Wind-down Fringe Dinner
URL;VALUE=URI:https://ti.to/úll/2017
URL;VALUE=URI:https://ti.to/úll/2017
END:VEVENT
END:VCALENDAR
